BEGIN:VCALENDAR
VERSION:2.0
PRODID:-//Impro-Stuttgart - ECPv6.15.20//NONSGML v1.0//EN
CALSCALE:GREGORIAN
METHOD:PUBLISH
X-WR-CALNAME:Impro-Stuttgart
X-ORIGINAL-URL:https://impro-stuttgart.de
X-WR-CALDESC:Veranstaltungen für Impro-Stuttgart
REFRESH-INTERVAL;VALUE=DURATION:PT1H
X-Robots-Tag:noindex
X-PUBLISHED-TTL:PT1H
BEGIN:VTIMEZONE
TZID:Europe/Berlin
BEGIN:DAYLIGHT
TZOFFSETFROM:+0100
TZOFFSETTO:+0200
TZNAME:CEST
DTSTART:20250330T010000
END:DAYLIGHT
BEGIN:STANDARD
TZOFFSETFROM:+0200
TZOFFSETTO:+0100
TZNAME:CET
DTSTART:20251026T010000
END:STANDARD
BEGIN:DAYLIGHT
TZOFFSETFROM:+0100
TZOFFSETTO:+0200
TZNAME:CEST
DTSTART:20260329T010000
END:DAYLIGHT
BEGIN:STANDARD
TZOFFSETFROM:+0200
TZOFFSETTO:+0100
TZNAME:CET
DTSTART:20261025T010000
END:STANDARD
BEGIN:DAYLIGHT
TZOFFSETFROM:+0100
TZOFFSETTO:+0200
TZNAME:CEST
DTSTART:20270328T010000
END:DAYLIGHT
BEGIN:STANDARD
TZOFFSETFROM:+0200
TZOFFSETTO:+0100
TZNAME:CET
DTSTART:20271031T010000
END:STANDARD
END:VTIMEZONE
BEGIN:VEVENT
DTSTART;TZID=Europe/Berlin:20260425T200000
DTEND;TZID=Europe/Berlin:20260425T220000
DTSTAMP:20260425T151731
CREATED:20251122T113503Z
LAST-MODIFIED:20251127T145520Z
UID:1327-1777147200-1777154400@impro-stuttgart.de
SUMMARY:True Stories - Improgameshow rund um Wahrheit und Lüge
DESCRIPTION:Impro Stuttgart präsentiert Geschichten aus dem wahren Leben … oder doch nicht? Hier wird sich nicht nur zeigen\, wie nah sich manchmal Realität und Fiktion sind\, sondern auch\, wie gut Ihr als Zuschauer*innen Lügen entlarven können\, wenn mit vollster Hingabe und großer Detailtreue eine Geschichte in den schillerndsten Farben NACHgespielt wird. Oder doch VORgespielt?!? \n\nDas Publikum ist Teil dieser Gameshow und kann mit guter Beobachtungsgabe und Intuition Punkte sammeln. Aber Achtung: die Schauspieler*innen tun alles\, um Euch auf die falsche Fährte zu locken. Denn den großen Preis gewinnt nur\, wer genauso ausgefuchst ist\, wie die Darsteller*innen auf der Bühne! \n\n\nHinweise: \nBalanced Ticket verfügbar: Balanced Tickets möchte ein solidarisches Prinzip für alle etablieren. Wenn der reguläre Preis für Menschen eine Hürde darstellt\, soll Balanced Tickets die Möglichkeit schaffen\, ein Ticket für einen günstigeren Preis zu bekommen. Und wie wird das finanziert? Durch die freiwillige Unterstützung derjenigen\, die es sich leisten können und möchten! Jedes verkaufte Unterstützungsticket trägt zur Finanzierung der Ermäßigungstickets bei. Das\, was die Unterstützer*innen bereit sind\, mehr zu bezahlen\, zahlen die Ermäßigten weniger. \nImpro Stuttgart ist ein internationales Ensemble und lädt sich regelmäßig internationale Gäste ein. Deshalb können manchmal Teile der Show auf einfachem Englisch sein. Wo nötig\, wird auf Deutsch übersetzt. \n\nKonzept: Nadine Antler / Shawn Kinley\nTickets>>>
URL:https://impro-stuttgart.de/event/true-stories-improgameshow-rund-um-wahrheit-und-luege/
LOCATION:Kulturzentrum Merlin\, Augustenstraße 72\, Stuttgart\, 70178\, Deutschland
CATEGORIES:Improshow
ATTACH;FMTTYPE=image/jpeg:https://impro-stuttgart.de/wp-content/uploads/2025/11/ITS_Die-besten-Geschichten_Foto-Yakup-Zeyrek-scaled.jpg
END:VEVENT
END:VCALENDAR